BEGIN:VCALENDAR
VERSION:2.0
PRODID:-//allesistinordnung.de - ECPv6.2.0.1//NONSGML v1.0//EN
CALSCALE:GREGORIAN
METHOD:PUBLISH
X-WR-CALNAME:allesistinordnung.de
X-ORIGINAL-URL:https://allesistinordnung.de
X-WR-CALDESC:Veranstaltungen für allesistinordnung.de
REFRESH-INTERVAL;VALUE=DURATION:PT1H
X-Robots-Tag:noindex
X-PUBLISHED-TTL:PT1H
BEGIN:VTIMEZONE
TZID:Europe/Berlin
BEGIN:DAYLIGHT
TZOFFSETFROM:+0100
TZOFFSETTO:+0200
TZNAME:CEST
DTSTART:20230326T010000
END:DAYLIGHT
BEGIN:STANDARD
TZOFFSETFROM:+0200
TZOFFSETTO:+0100
TZNAME:CET
DTSTART:20231029T010000
END:STANDARD
END:VTIMEZONE
BEGIN:VEVENT
DTSTART;TZID=Europe/Berlin:20231126T100000
DTEND;TZID=Europe/Berlin:20231127T160000
DTSTAMP:20260422T183952
CREATED:20230821T113006Z
LAST-MODIFIED:20230826T072121Z
UID:325-1700992800-1701100800@allesistinordnung.de
SUMMARY:Systemische Aufstellungen – Unterstützung mit Hilfe des Unbewussten
DESCRIPTION:Auch in diesem Jahr biete ich wieder meine regelmäßigen Gruppen und offene Aufstellungen an. \nKosten 1 Tag: teilnehmende Beobachtung 95 €\, mit Aufstellung 160 € \nKosten 2 Tage: teilnehmende Beobachtung 160 €\, mit Aufstellung 240 € \nDa die Plätze begrenzt sind\, empfehle ich frühzeitige Anmeldung!
URL:https://allesistinordnung.de/termin/systemische-aufstellungen-unterstuetzung-mit-hilfe-des-unbewussten-2/
LOCATION:Gesundheitspraxis MAX 14\, Maxstraße 14 (II. Stock)\, 83278 Traunstein
CATEGORIES:Gruppensitzung
ATTACH;FMTTYPE=image/jpeg:https://allesistinordnung.de/wp-content/uploads/2023/08/stable-diffusion-xl-1.jpg
ORGANIZER;CN="Angela%20Rees":MAILTO:willkommen@allesistinordnung.de
END:VEVENT
END:VCALENDAR